
BEGIN:VCALENDAR
VERSION:2.0
PRODID:-//eventon.com NONSGML v1.0//EN
CALSCALE:GREGORIAN
METHOD:PUBLISH
BEGIN:VEVENT
UID:69e73eb1ba003
DTSTAMP:20260421T090905Z
DTSTART:20250816
DTEND:20250817
LOCATION:Greater Columbus Convention Center 400 N High St\,  Columbus\,  OH 43215
SUMMARY:(ADED) Association for Driver Rehab. Specialists
DESCRIPTION:(ADED) Association for Driver Rehab. Specialists\nhttps://www.s
 tereooptical.com/events/aded-association-driver-rehabilitation-specialists/
URL:https://www.stereooptical.com/events/aded-association-driver-rehabilitation-specialists/
END:VEVENT
END:VCALENDAR